BEGIN:VCALENDAR
VERSION:2.0
PRODID:-//Northwest Horticultural Society - ECPv6.15.20//NONSGML v1.0//EN
CALSCALE:GREGORIAN
METHOD:PUBLISH
X-ORIGINAL-URL:https://northwesthort.org
X-WR-CALDESC:Events for Northwest Horticultural Society
REFRESH-INTERVAL;VALUE=DURATION:PT1H
X-Robots-Tag:noindex
X-PUBLISHED-TTL:PT1H
BEGIN:VTIMEZONE
TZID:America/Los_Angeles
BEGIN:DAYLIGHT
TZOFFSETFROM:-0800
TZOFFSETTO:-0700
TZNAME:PDT
DTSTART:20240310T100000
END:DAYLIGHT
BEGIN:STANDARD
TZOFFSETFROM:-0700
TZOFFSETTO:-0800
TZNAME:PST
DTSTART:20241103T090000
END:STANDARD
BEGIN:DAYLIGHT
TZOFFSETFROM:-0800
TZOFFSETTO:-0700
TZNAME:PDT
DTSTART:20250309T100000
END:DAYLIGHT
BEGIN:STANDARD
TZOFFSETFROM:-0700
TZOFFSETTO:-0800
TZNAME:PST
DTSTART:20251102T090000
END:STANDARD
BEGIN:DAYLIGHT
TZOFFSETFROM:-0800
TZOFFSETTO:-0700
TZNAME:PDT
DTSTART:20260308T100000
END:DAYLIGHT
BEGIN:STANDARD
TZOFFSETFROM:-0700
TZOFFSETTO:-0800
TZNAME:PST
DTSTART:20261101T090000
END:STANDARD
END:VTIMEZONE
BEGIN:VEVENT
DTSTART;TZID=America/Los_Angeles:20250905T090000
DTEND;TZID=America/Los_Angeles:20250905T120000
DTSTAMP:20260419T122344
CREATED:20250721T212725Z
LAST-MODIFIED:20250818T052229Z
UID:10000290-1757062800-1757073600@northwesthort.org
SUMMARY:UW Farm Tour with Farm Manager Perry Acworth (SOLD OUT)
DESCRIPTION:Experience a vibrant hub of urban agriculture at the height of harvest season with UW Farm Manager Perry Acworth. She will guide us through this student-powered 1.5-acre production site\, highlighting seasonal vegetables\, fruits and flowers. Dedicated to sustainability\, education and community impact\, the farm has produced over 10 tons of organic food using sustainable farming practices that increase production and minimize ecosystem impact. Participants will take part in a flower harvesting and bouquet-making activity; the arrangements will be sold to support farm operations. We’ll also delve into the farm’s role as a living laboratory for student learning\, internships and research on soil health\, pollinators and sustainable agriculture. Perry will highlight the farm’s commitment to community\,\, including efforts to reduce food insecurity\, promote volunteer engagement\, compost organic waste\, and conserve water\,  all while fostering a deeper connection between people\, food and the environment. \nGuide’s Bio:  \nPerry Acworth has served as UW farm manager since 2018 and is a leader in sustainable agriculture and experiential education. Her work connects people to the food system through hands-on\, community-driven learning. In 2020\, she received the UW Distinguished Staff Award for Excellence for her outstanding contributions to student mentorship\, urban farming and community engagement.
URL:https://northwesthort.org/event/uw-farm-tour-with-farm-manager-perry-acworthator-ray-larson-2/
LOCATION:Center for Urban Horticulture\, 3501 NE 41st St\, Seattle\, WA\, 98105
CATEGORIES:In-person Day Tour
ATTACH;FMTTYPE=image/jpeg:https://northwesthort.org/wp-content/uploads/2025/07/2025-09-05-Tour-the-UW-Farm-with-Perry-Acworth-Thumb-Soldout.jpg
ORGANIZER;CN="Northwest Horticultural Society":MAILTO:info@northwesthort.org
END:VEVENT
BEGIN:VEVENT
DTSTART;TZID=America/Los_Angeles:20250908T183000
DTEND;TZID=America/Los_Angeles:20250908T200000
DTSTAMP:20260419T122344
CREATED:20250812T144258Z
LAST-MODIFIED:20250822T172546Z
UID:10000294-1757356200-1757361600@northwesthort.org
SUMMARY:The Essential Guide to Bulbs with Jenny Rose Carey
DESCRIPTION:We will be treated to a preview of Jenny Rose Carey’s latest book\, “The Essential Guide to Bulbs: Grow a Bounty of Beautiful Bulbs in Gardens and Containers\,” to be published by Timber Press in mid-October. Destined to become a gardening classic\, this must-read guide is a gorgeously photographed\, comprehensive and inviting resource that will appeal to gardeners of all levels. Jenny Rose will share her expertise on planting techniques\, design ideas\, growing bulbs in containers and gardens of any size\, how to incorporate bulbs for pollinators\, and personalizing a garden to match your vision. \nSpeaker’s Bio: \nJenny Rose Carey is an avid hands-on gardener\, professional horticulturist and the author of “Glorious Shade” and “The Ultimate Flower Gardener’s Guide.” Born in England to a family of botanists and gardeners\, she grew up in the countryside and designed her first herb garden at age sixteen. She moved with her American husband to the Philadelphia area and has gardened there ever since. With degrees in biology\, horticulture and education\, Jenny Rose has been the director of two public gardens\, the Ambler Arboretum of Temple University and the Pennsylvania Horticultural Society’s Garden at Meadowbrook Farm. \nTo pre-order a signed copy: https://jennyrosecarey.com/product/the-ultimate-flower-gardeners-guide-signed-copy/ \nAdditional Resources: \nhttps://beforeyougarden.com/ \nhttps://www.instagram.com/jennyrosecarey/
URL:https://northwesthort.org/event/the-essential-guide-to-bulbs-with-jenny-rose-carey/
LOCATION:Live Webinar
CATEGORIES:Live Webinar
ATTACH;FMTTYPE=image/jpeg:https://northwesthort.org/wp-content/uploads/2025/08/2025-09-10-The-Essential-Guide-to-Bulbs-with-Jenny-Rose-Carey-Thumb.jpg
ORGANIZER;CN="Northwest Horticultural Society":MAILTO:info@northwesthort.org
END:VEVENT
BEGIN:VEVENT
DTSTART;TZID=America/Los_Angeles:20250911T100000
DTEND;TZID=America/Los_Angeles:20250911T120000
DTSTAMP:20260419T122344
CREATED:20250812T023934Z
LAST-MODIFIED:20250829T153224Z
UID:10000292-1757584800-1757592000@northwesthort.org
SUMMARY:Garden Journaling: A Novel Approach with Lorene Edwards Forkner and Sue Goetz (SOLD OUT)
DESCRIPTION:Explore alternative ways to capture garden moments in a journal\, using word lists\, sketching and more. Tap into the power of language and drawing to enlarge your experience and hone your observation of the natural world. Lorene and Sue will inspire you to capture months\, days or ideas with a personal approach. Suitable for beginners\, non-artists\, and those who are experienced. Sketchbook journals\, pens\, and pencils will be provided. \nInstructors’ Bios: \nLorene Edwards Forkner is an author and speaker whose work centers on exploring the wonders of the natural world. She regularly contributes to the weekly GROW column for Pacific NW Magazine in the Seattle Times and is the author of numerous gardening titles\, including “Color In and out of the Garden.” \nSue Goetz is a garden designer\, writer\, speaker and NHS board member. For garden inspiration\, she dabbles in botanical art\, pressed flowers and mixed media. \n 
URL:https://northwesthort.org/event/garden-journaling-a-novel-approach-with-lorene-edwards-forkner-and-sue-goetz/
LOCATION:Dunn Gardens\, 13533 Northshire Rd. NW\, Seattle\, WA\, 98177
CATEGORIES:In-person Workshop
ATTACH;FMTTYPE=image/jpeg:https://northwesthort.org/wp-content/uploads/2025/08/2025-09-11-Nature-Journaling-Thumb-Soldout.jpg
ORGANIZER;CN="Northwest Horticultural Society":MAILTO:info@northwesthort.org
END:VEVENT
BEGIN:VEVENT
DTSTART;TZID=America/Los_Angeles:20250912T100000
DTEND;TZID=America/Los_Angeles:20250912T120000
DTSTAMP:20260419T122344
CREATED:20250901T221743Z
LAST-MODIFIED:20250905T221931Z
UID:10000299-1757671200-1757678400@northwesthort.org
SUMMARY:Expedia Campus Late Summer Tour With Jeff Daley (SOLD OUT)
DESCRIPTION:Expedia’s Ecological Horticulturalist/Arborist Jeff Daley will guide an exclusive tour of the Expedia Group Campus on the Seattle waterfront. This is a rare opportunity to experience an invigorating approach to corporate campus design that employs landscape illusions to blur the boundaries between public and private space. The 40-acre site features artful displays of grasses in their summer-to-fall prime\, along with majestic views of Puget Sound\, Mt. Rainier and downtown Seattle. Jeff will lead us into areas inside the campus usually accessible only to employees\, including a park amphitheater\, a cascading water feature\, roof gardens\, apiary\, vegetable garden and other landscape features informed by biophilic design\, sustainability and a rich sense of place. \nParking and entry details to the campus will be provided to registrants prior to the tour. \nGuide’s Bio: \nJeffrey Daley has been involved in horticulture on the Expedia campus for the past four years. Prior to that\, he was head gardener and arborist at Seattle Pacific University for 30 years. Jeff is a Washington State Certified Professional Horticulturist\, ISA Certified Arborist and WSU Master Gardener.  \nAdditional resources: \nhttps://www.seattletimes.com/pacific-nw-magazine/expedias-seattle-landscape-offers-employees-a-quick-trip-to-nature/ \nhttps://www.fastcompany.com/90796605/expedias-new-hq-is-an-ambitious-vision-for-the-future-of-corporate-campuses
URL:https://northwesthort.org/event/expedia-campus-late-summer-tour-with-jeff-daley/
LOCATION:Expedia Seattle Campus\, 1111 Expedia Group Way W\, Seattle\, WA\, 98119
CATEGORIES:In-person Day Tour
ATTACH;FMTTYPE=image/jpeg:https://northwesthort.org/wp-content/uploads/2025/09/2025-09-12-Expedia-Campus-Late-Summer-Tour-with-Jeff-Daley-Thumb-2-Soldout.jpg
ORGANIZER;CN="Northwest Horticultural Society":MAILTO:info@northwesthort.org
END:VEVENT
BEGIN:VEVENT
DTSTART;TZID=America/Los_Angeles:20250917T183000
DTEND;TZID=America/Los_Angeles:20250917T200000
DTSTAMP:20260419T122344
CREATED:20250818T223211Z
LAST-MODIFIED:20250819T052002Z
UID:10000296-1758133800-1758139200@northwesthort.org
SUMMARY:Nearby Nature is Good for Us: Here’s the Science with Dr. Kathleen Wolf
DESCRIPTION:The science of nature and human health is remarkable – represented by thousands of studies that concern all people and all dimensions of health. Yet many are blind to the presence of nature\, thus are unaware of its benefits and the necessity for investment in expanded access. Dr. Wolf will share highlights of nature and health research\, then turn to why nature in everyday environments helps people thrive.  \nSpeaker’s bio:  \nKathleen (Kathy) Wolf\, Ph.D. is a research social scientist with the University of Washington and University of British Columbia. She developed and directed a multi-decade research program at UW to investigate the human response to outdoor spaces and trees in cities\, using the theory and methods of environmental psychology. Now semi-retired\, she is committed to science collaboration and outreach\, working with partners in nations across the planet. She was recently a keynote speaker at the 2nd International Conference on Forest Therapy at the University of British Columbia.  \n Additional resources:  \n http://depts.washington.edu/hhwb/  \n http://www.naturewithin.info/ 
URL:https://northwesthort.org/event/nearby-nature-is-good-for-us-heres-the-science/
LOCATION:Live Webinar
CATEGORIES:Live Webinar
ATTACH;FMTTYPE=image/jpeg:https://northwesthort.org/wp-content/uploads/2025/08/2025-09-17-Nearby-Nature-is-Good-for-Us-Heres-the-Science-with-Kathleen-Wolf-Thumb.jpg
ORGANIZER;CN="Northwest Horticultural Society":MAILTO:info@northwesthort.org
END:VEVENT
BEGIN:VEVENT
DTSTART;TZID=America/Los_Angeles:20250918T100000
DTEND;TZID=America/Los_Angeles:20250918T120000
DTSTAMP:20260419T122344
CREATED:20250807T155102Z
LAST-MODIFIED:20250821T215401Z
UID:10000291-1758189600-1758196800@northwesthort.org
SUMMARY:Seattle Waterfront Tour with Richard Hartlage  (SOLD OUT)
DESCRIPTION:Join us for a walking tour of Seattle’s newest and boldest urban park\, led by Richard Hartlage of Land Morphology\, which provided planting design services for this expansive project. The park skims along Elliott Bay\, spanning 20 acres and 26 blocks\, and features 500 plant varieties and nearly 800 trees. Each planting zone tells a unique story rooted in local history and ecology and exemplifies how thoughtful planting design creates spaces that connect the community with nature\, enhance biodiversity and serve as models for sustainable urban development. Overlook Walk is populated with species native to Puget Sound’s coastal bluffs and provide valuable shade\, habitat and stormwater filtration. The Aquarium Rooftop’s native meadow landscape was designed with guidance from traditional ecological knowledge-keeper Valerie Segrest\, an enrolled member of the Muckleshoot Indian Tribe.   \nTour leader’s bio:  \nRichard Hartlage is the CEO and founding partner of the Seattle-based landscape architectural firm Land Morphology. His award-winning designs are emotive\, immersive spaces that incorporate sophisticated horticulture and historical knowledge to heighten the human experience of the natural world. Richard’s passion for horticulture\, cultivated while working in public gardens and estates and managing landscape architecture studios\, is applied to each design from the conceptual phase through development of maintenance protocol and beyond.   \nThe firm’s portfolio includes the Leach Botanical Garden in Portland\, the Herb and Vegetable Garden at the Brooklyn Botanical Garden\, Chihuly Garden and Glass\, and numerous private residential landscapes and commercial projects across eight states. Richard has contributed to six books on horticulture and landscape architecture\, including “The Authentic Garden: Naturalistic and Contemporary Planting design in Landscape Architecture.” He received the American Horticulture Society’s Great American Gardeners Award in 2018 and the Mrs. Oakleigh Thorne Medal from the Garden Club of America in 2025.  \n \n \n \nSeattle Waterfront Plan
URL:https://northwesthort.org/event/seattle-waterfront-tour-with-richard-hartlage-2/
LOCATION:Seattle Waterfront Park\, 1401 Alaskan Way\, Seattle\, WA\, 98101
CATEGORIES:In-person Day Tour
ATTACH;FMTTYPE=image/jpeg:https://northwesthort.org/wp-content/uploads/2025/05/2025-06-26-Seattle-Waterfront-Tour-with-Richard-Hartlage-Thumb-1-Soldout.jpg
ORGANIZER;CN="Northwest Horticultural Society":MAILTO:info@northwesthort.org
END:VEVENT
BEGIN:VEVENT
DTSTART;TZID=America/Los_Angeles:20250923T100000
DTEND;TZID=America/Los_Angeles:20250923T120000
DTSTAMP:20260419T122344
CREATED:20250812T023236Z
LAST-MODIFIED:20250821T184148Z
UID:10000293-1758621600-1758628800@northwesthort.org
SUMMARY:Fall Propagation Class with Janet Egger at Dunn Gardens (SOLD OUT)
DESCRIPTION:Plant propagation is an integral part of plant breeding as it requires learning how to make and grow seed and how to maintain the mother plants by division and cuttings. September is the ideal time to multiply your most desirable plants and to save some of your half-hardy perennials from a cold winter. Expert horticulturist Janet Egger will demonstrate how to select and root softwood cuttings of fuchsia\, cuphea\, roses and other garden favorites. She will also show how to collect\, card\, clean and package seeds; divide grasses and other perennials for planting out this fall; and how to layer shrubs to create new plants for planting out next spring. You will take home some of the plant cuttings and cleaned seeds that you worked with during the class. \nInstructor’s Bio: \nJanet Egger has been in horticulture since 1971 and has been a plant breeder since 1980. She holds a B.S. in botany and an M.S. in horticulture from UC Davis. She recently retired as head plant breeder for Terra Nova Nurseries in Canby\, Oregon. She volunteers at Dunn Gardens as a board member\, docent and database manager. \n \n \n 
URL:https://northwesthort.org/event/fall-propagation-class-with-janet-egger-at-dunn-gardens/
LOCATION:Dunn Gardens\, 13533 Northshire Rd. NW\, Seattle\, WA\, 98177
CATEGORIES:In-person Class
ATTACH;FMTTYPE=image/jpeg:https://northwesthort.org/wp-content/uploads/2025/08/2025-09-23-Propagation-Class-with-Janet-Egger-Thumb-Soldout.jpg
END:VEVENT
BEGIN:VEVENT
DTSTART;TZID=America/Los_Angeles:20250924T183000
DTEND;TZID=America/Los_Angeles:20250924T200000
DTSTAMP:20260419T122344
CREATED:20250818T222644Z
LAST-MODIFIED:20251006T211250Z
UID:10000295-1758738600-1758744000@northwesthort.org
SUMMARY:Gardening Under Mature Trees with Christina Pfeiffer
DESCRIPTION:A recording of this extremely popular and useful lecture is available for purchase and viewing through October 23\, 2025.\nPacific Northwest gardens often boast an enviable range of conifers and hardwoods\, but successfully planting underneath them can be challenging due their substantial root systems\, heavy water demands and expanding shade. In addition\, misunderstandings about mature trees’ roots can lead to the eventual death of these prized older trees\, while repeated efforts to cultivate grass and other plantings beneath them can become frustrating and costly. Drawing from decades of expertise\, Christina will share valuable lessons in how to successfully anticipate and avoid these complications. She will also cover some cost-effective techniques to improve the long-term success for all plants in these landscape situations. \nSpeaker’s Bio:  \nChristina Pfeiffer is a Seattle-based horticulture educator and ISA Certified Arborist who has enjoyed a long and interesting career in landscape horticulture. She holds degrees in horticulture from Michigan State and the University of Washington and brings practical experience and attention to current research to her presentations. Christina has met the challenges\, successes and failures of gardening under mature trees through her past role as a horticulturist at the Washington Park Arboretum\, as a consulting arborist and\, for over thirty years\, in her own garden.
URL:https://northwesthort.org/event/gardening-under-mature-trees-with-christina-pfeiffer/
LOCATION:Live Webinar
CATEGORIES:Live Webinar
ATTACH;FMTTYPE=image/jpeg:https://northwesthort.org/wp-content/uploads/2025/08/2025-09-24-Gardening-under-Mature-Trees-with-Christina-Pfeiffer-Thumb.jpg
ORGANIZER;CN="Northwest Horticultural Society":MAILTO:info@northwesthort.org
END:VEVENT
END:VCALENDAR