BEGIN:VCALENDAR
VERSION:2.0
PRODID:-//Northwest Horticultural Society - ECPv6.15.20//NONSGML v1.0//EN
CALSCALE:GREGORIAN
METHOD:PUBLISH
X-ORIGINAL-URL:https://northwesthort.org
X-WR-CALDESC:Events for Northwest Horticultural Society
REFRESH-INTERVAL;VALUE=DURATION:PT1H
X-Robots-Tag:noindex
X-PUBLISHED-TTL:PT1H
BEGIN:VTIMEZONE
TZID:America/Los_Angeles
BEGIN:DAYLIGHT
TZOFFSETFROM:-0800
TZOFFSETTO:-0700
TZNAME:PDT
DTSTART:20240310T100000
END:DAYLIGHT
BEGIN:STANDARD
TZOFFSETFROM:-0700
TZOFFSETTO:-0800
TZNAME:PST
DTSTART:20241103T090000
END:STANDARD
BEGIN:DAYLIGHT
TZOFFSETFROM:-0800
TZOFFSETTO:-0700
TZNAME:PDT
DTSTART:20250309T100000
END:DAYLIGHT
BEGIN:STANDARD
TZOFFSETFROM:-0700
TZOFFSETTO:-0800
TZNAME:PST
DTSTART:20251102T090000
END:STANDARD
BEGIN:DAYLIGHT
TZOFFSETFROM:-0800
TZOFFSETTO:-0700
TZNAME:PDT
DTSTART:20260308T100000
END:DAYLIGHT
BEGIN:STANDARD
TZOFFSETFROM:-0700
TZOFFSETTO:-0800
TZNAME:PST
DTSTART:20261101T090000
END:STANDARD
END:VTIMEZONE
BEGIN:VEVENT
DTSTART;TZID=America/Los_Angeles:20250115T183000
DTEND;TZID=America/Los_Angeles:20250115T200000
DTSTAMP:20260425T034140
CREATED:20241224T024757Z
LAST-MODIFIED:20250113T072549Z
UID:10000226-1736965800-1736971200@northwesthort.org
SUMMARY:VISIONARY: Gardens and Landscapes for our Future with Claire Takacs
DESCRIPTION:Photographer extraordinaire Claire Takacs will discuss her new book\, VISIONARY: Gardens and Landscapes for Our Future\, created with landscape architect Giacomo Guzzon. She will treat us to highlights from the the book’s eighty gardens and public landscapes that are designed to address our changing climate in novel and inspiring ways. Photographed on five continents\, the images represent a diverse range of climates\, scales\, solutions\, and budgets. \nDan Hinkley\, one of Claire’s foremost fans and friend\, is thrilled to be hosting this event. Dan’s book Windcliff is rich with her otherworldly photography. \nSpeaker Bio:\nClaire is based in Melbourne and travels the globe to capture transcendent moments in the most esteemed and beautiful gardens. Her award-winning imagery appears regularly in international magazines\, including Gardens Illustrated. She has contributed to many books\, including Dreamscapes; Australian Dreamscapes; Windcliff: A Story of People\, Plants\, and Gardens by Dan Hinkley; and Wild: The Naturalistic Garden with text by Noel Kingsbury. \nRecording will be available for 4 weeks.
URL:https://northwesthort.org/event/visionary-gardens-and-landscapes-for-our-future/
LOCATION:Live Webinar
CATEGORIES:Webinar Lecture Series
ATTACH;FMTTYPE=image/jpeg:https://northwesthort.org/wp-content/uploads/2024/12/2025-01-15-Claire-Takacs-Visionary-Thumb.jpg
END:VEVENT
BEGIN:VEVENT
DTSTART;TZID=America/Los_Angeles:20250129T183000
DTEND;TZID=America/Los_Angeles:20250129T200000
DTSTAMP:20260425T034140
CREATED:20241224T051307Z
LAST-MODIFIED:20250116T061710Z
UID:10000227-1738175400-1738180800@northwesthort.org
SUMMARY:Grow More Food: How to design/plant/grow a vegetable garden in a space of any size with Colin McCrate
DESCRIPTION:A detailed and well-executed garden plan can double or triple the productivity of a vegetable garden. We’ll consider which crops to grow\, how to select varieties\, how to allocate space\, and a range of planting strategies for the Pacific Northwest. Get intimate with your crops and make the most of your productive space this coming season. \nSpeaker Bio:\nColin McCrate is the founder of Seattle Urban Farm Company and the author of two best-selling gardening books: Food Grown Right\, In Your Backyard and Grow More Food. Colin has been growing food organically for over 20 years and has helped guide hundreds of urban farmers through the design\, construction\, and management of their own edible landscape. He believes that sustainable urban agriculture can promote healthy diets\, environmental stewardship\, stronger communities\, and improved quality of life. \nRecording will be available for 4 weeks.
URL:https://northwesthort.org/event/grow-more-food-how-to-design-plant-grow-a-vegetable-garden-in-a-space-of-any-size/
LOCATION:Live Webinar
CATEGORIES:Webinar Lecture Series
ATTACH;FMTTYPE=image/jpeg:https://northwesthort.org/wp-content/uploads/2024/12/2025-01-29-Colin-McCrate-Grow-More-Food-Thumb.jpg
END:VEVENT
END:VCALENDAR