BEGIN:VCALENDAR
VERSION:2.0
PRODID:-//Northwest Horticultural Society - ECPv6.15.20//NONSGML v1.0//EN
CALSCALE:GREGORIAN
METHOD:PUBLISH
X-ORIGINAL-URL:https://northwesthort.org
X-WR-CALDESC:Events for Northwest Horticultural Society
REFRESH-INTERVAL;VALUE=DURATION:PT1H
X-Robots-Tag:noindex
X-PUBLISHED-TTL:PT1H
BEGIN:VTIMEZONE
TZID:America/Los_Angeles
BEGIN:DAYLIGHT
TZOFFSETFROM:-0800
TZOFFSETTO:-0700
TZNAME:PDT
DTSTART:20230312T100000
END:DAYLIGHT
BEGIN:STANDARD
TZOFFSETFROM:-0700
TZOFFSETTO:-0800
TZNAME:PST
DTSTART:20231105T090000
END:STANDARD
BEGIN:DAYLIGHT
TZOFFSETFROM:-0800
TZOFFSETTO:-0700
TZNAME:PDT
DTSTART:20240310T100000
END:DAYLIGHT
BEGIN:STANDARD
TZOFFSETFROM:-0700
TZOFFSETTO:-0800
TZNAME:PST
DTSTART:20241103T090000
END:STANDARD
BEGIN:DAYLIGHT
TZOFFSETFROM:-0800
TZOFFSETTO:-0700
TZNAME:PDT
DTSTART:20250309T100000
END:DAYLIGHT
BEGIN:STANDARD
TZOFFSETFROM:-0700
TZOFFSETTO:-0800
TZNAME:PST
DTSTART:20251102T090000
END:STANDARD
END:VTIMEZONE
BEGIN:VEVENT
DTSTART;TZID=America/Los_Angeles:20241204T183000
DTEND;TZID=America/Los_Angeles:20241204T200000
DTSTAMP:20260425T051043
CREATED:20241119T063745Z
LAST-MODIFIED:20241119T064134Z
UID:10000225-1733337000-1733342400@northwesthort.org
SUMMARY:Winter Holiday Floral Demonstrations by Françoise Weeks
DESCRIPTION:Join internationally renowned floral designer and artist Françoise Weeks just in time for the holiday season! Françoise will showcase six different pre-made designs\, describing the mechanics and providing detailed information behind each piece. \nThese designs are featured in her amazing book\, ‘Wonder of the Woodlands: The Art of Seeing and Creating with Nature’. Françoise has a huge following within the floral design community. Debra Prinzing will be your host for the event. \nArtist Bio:\nFrançoise Weeks was born in Belgium and started her business in 1996. She has infused her work with a quintessential European reverence for flowers and nature. Combined with creativity and mechanical ingenuity\, she has crystallized her singular style of Textural Woodlands and Botanical Haute Couture pieces\, garnering a global following. \nFrançoise’s studio is located in Portland\, Oregon\, where she teaches workshops and offers online courses. Her generosity in sharing knowledge\, combined with her expertise in floral materials\, structure\, and mechanics\, as well as the business of being a florist\, creates rigorous and exciting learning opportunities for her students to explore all that nature has to offer. \nHer innovation and passion for teaching have taken her to numerous cities across the U.S.\, where she has taught in studios\, at wholesalers\, at garden clubs\, and at Art in Bloom events and conferences\, including the AIFD Symposium. Internationally\, she has taught in Mexico\, Canada\, England\, Sweden\, Iceland\, France\, China\, and Australia. \nIn 2019\, Françoise was invited to participate in two prestigious international flower events in Belgium: Flower Time at City Hall in Brussels and Fleuramour at the medieval castle in Alden Biesen. \nHer dynamic work has been featured in national and international publications such as Nacre\, Fusion Flowers\, Modern Wedding Flowers\, Huffington Post\, Flutter\, and Milieu. \nFrançoise’s first book\, The Herbal Recipe Keeper\, was published by Timber Press in 2018. Her second book\, The Wonder of Woodlands\, will be published by Clarkson Potter in the spring of 2024. \nRecording will be available for 4 weeks. \n \nScreenshot \nScreenshot \nScreenshot \n \nScreenshot \nScreenshot \n  \nScreenshot \n  \n  \n  \n  \n 
URL:https://northwesthort.org/event/winter-holiday-floral-demonstrations-by-francoise-weeks/
LOCATION:Live Webinar
CATEGORIES:Webinar Lecture Series
ATTACH;FMTTYPE=image/jpeg:https://northwesthort.org/wp-content/uploads/2024/11/12.04.24-Francoise-Weeks-Thumb-2-2.jpg
END:VEVENT
END:VCALENDAR