BEGIN:VCALENDAR
VERSION:2.0
PRODID:-//Northwest Horticultural Society - ECPv6.15.20//NONSGML v1.0//EN
CALSCALE:GREGORIAN
METHOD:PUBLISH
X-WR-CALNAME:Northwest Horticultural Society
X-ORIGINAL-URL:https://northwesthort.org
X-WR-CALDESC:Events for Northwest Horticultural Society
REFRESH-INTERVAL;VALUE=DURATION:PT1H
X-Robots-Tag:noindex
X-PUBLISHED-TTL:PT1H
BEGIN:VTIMEZONE
TZID:America/Los_Angeles
BEGIN:DAYLIGHT
TZOFFSETFROM:-0800
TZOFFSETTO:-0700
TZNAME:PDT
DTSTART:20230312T100000
END:DAYLIGHT
BEGIN:STANDARD
TZOFFSETFROM:-0700
TZOFFSETTO:-0800
TZNAME:PST
DTSTART:20231105T090000
END:STANDARD
BEGIN:DAYLIGHT
TZOFFSETFROM:-0800
TZOFFSETTO:-0700
TZNAME:PDT
DTSTART:20240310T100000
END:DAYLIGHT
BEGIN:STANDARD
TZOFFSETFROM:-0700
TZOFFSETTO:-0800
TZNAME:PST
DTSTART:20241103T090000
END:STANDARD
BEGIN:DAYLIGHT
TZOFFSETFROM:-0800
TZOFFSETTO:-0700
TZNAME:PDT
DTSTART:20250309T100000
END:DAYLIGHT
BEGIN:STANDARD
TZOFFSETFROM:-0700
TZOFFSETTO:-0800
TZNAME:PST
DTSTART:20251102T090000
END:STANDARD
END:VTIMEZONE
BEGIN:VEVENT
DTSTART;TZID=America/Los_Angeles:20240604T100000
DTEND;TZID=America/Los_Angeles:20240604T120000
DTSTAMP:20260425T155449
CREATED:20240430T012406Z
LAST-MODIFIED:20240517T043859Z
UID:10000177-1717495200-1717502400@northwesthort.org
SUMMARY:Snip & Stroll at the Kubota Garden with Don Brooks - Morning Session - SOLD OUT
DESCRIPTION:Click Register to be added to the waitlist. \n  \n \nSnip & Stroll at the Kubota Garden with Don Brooks \nJoin Don Brooks\, former head gardener at Kubota Garden\, on a tour of this stunning 20-acre Japanese American garden and historic landmark. Don will tell the story of Fujitara Kubota\, the Japanese immigrant whose vision and hard work transformed undesirable logged off swampland into a tranquil urban oasis with multiple pools\, waterfalls\, stone features and an extensive variety of plants. Along the way\, Don will demonstrate aesthetic pruning techniques on several conifers and Japanese maples. Come enjoy the beauty and history of this unique garden sanctuary. \nDon Brooks grew up in the mountains of NE Washington state among trees and sawmills. After moving to Seattle\, he began his horticultural life in the Edmonds Community College program. A summer as a seasonal worker in the Carl English Gardens at Ballard Locks convinced him that public gardening was the way to go. A few years later\, he began a 32-year career with the Seattle Parks Department\, with the last 30 of those at Kubota Garden. Don continues to passionately love gardening\, both at his personal garden and at numerous others\, when he isn’t in the mountains skiing\, hiking and climbing. \nLIMIT: 18 (MAXIMUM 2 PER REGISTRATION) – FEE IS PER PERSON
URL:https://northwesthort.org/event/snip-stroll-at-the-kubota-garden-with-don-brooks/
LOCATION:Kubota Garden\, 9817 55th Ave S\, Seattle\, Washington\, 98178
CATEGORIES:In-person Class
ATTACH;FMTTYPE=image/png:https://northwesthort.org/wp-content/uploads/2024/04/Don-Brooks-1920-x-1080.png
ORGANIZER;CN="Northwest Horticultural Society":MAILTO:info@northwesthort.org
END:VEVENT
BEGIN:VEVENT
DTSTART;TZID=America/Los_Angeles:20240604T130000
DTEND;TZID=America/Los_Angeles:20240604T150000
DTSTAMP:20260425T155449
CREATED:20240501T154043Z
LAST-MODIFIED:20240517T043938Z
UID:10000178-1717506000-1717513200@northwesthort.org
SUMMARY:Snip & Stroll at the Kubota Garden with Don Brooks - Afternoon Session - SOLD OUT
DESCRIPTION:Click Register to be added to the waitlist. \n \nSnip & Stroll at the Kubota Garden with Don Brooks \nJoin Don Brooks\, former head gardener at Kubota Garden\, on a tour of this stunning 20-acre Japanese American garden and historic landmark. Don will tell the story of Fujitara Kubota\, the Japanese immigrant whose vision and hard work transformed undesirable logged off swampland into a tranquil urban oasis with multiple pools\, waterfalls\, stone features and an extensive variety of plants. Along the way\, Don will demonstrate aesthetic pruning techniques on several conifers and Japanese maples. Come enjoy the beauty and history of this unique garden sanctuary. \nDon Brooks grew up in the mountains of NE Washington state among trees and sawmills. After moving to Seattle\, he began his horticultural life in the Edmonds Community College program. A summer as a seasonal worker in the Carl English Gardens at Ballard Locks convinced him that public gardening was the way to go. A few years later\, he began a 32-year career with the Seattle Parks Department\, with the last 30 of those at Kubota Garden. Don continues to passionately love gardening\, both at his personal garden and at numerous others\, when he isn’t in the mountains skiing\, hiking and climbing. \nLIMIT: 18 (MAXIMUM 2 PER REGISTRATION) – FEE IS PER PERSON
URL:https://northwesthort.org/event/snip-stroll-at-the-kubota-garden-with-don-brooks-afternoon-session/
LOCATION:Kubota Garden\, 9817 55th Ave S\, Seattle\, Washington\, 98178
CATEGORIES:In-person Class
ATTACH;FMTTYPE=image/png:https://northwesthort.org/wp-content/uploads/2024/04/Don-Brooks-1920-x-1080.png
ORGANIZER;CN="Northwest Horticultural Society":MAILTO:info@northwesthort.org
END:VEVENT
BEGIN:VEVENT
DTSTART;TZID=America/Los_Angeles:20240605T183000
DTEND;TZID=America/Los_Angeles:20240605T203000
DTSTAMP:20260425T155449
CREATED:20240516T171545Z
LAST-MODIFIED:20240516T171545Z
UID:10000183-1717612200-1717619400@northwesthort.org
SUMMARY:Designing Climate Adapted Gardens: A Designer Forum with Naomi Goodman\, Jonathan Hallet\, and Jason Jorgensen
DESCRIPTION:  \n \n  \nDesigning Climate Adapted Gardens: A Designer Forum\nwith Naomi Goodman\, Jonathan Hallet\, and Jason Jorgensen\n \nPlease join Naomi Goodman\, Jonathan Hallet and Jason Jorgensen for an informative design forum as they discuss changing climate methodologies for creating beautiful\, healthy and resilient landscapes. Bring your tough design questions for the moderated Q & A session at the end of the three speakers’ talks. This is an online event\, a recording will be provided and will expire 3 weeks after the event date. \n  \nNaomi Goodman: When making gardens\, how can we put wildlife front and center\, AND meet the aesthetic and functional needs of a garden’s human inhabitants? What materials are available locally that have fewer negative externalities than others? How can we creatively reduce as much waste as possible when making new spaces? These are the thoughts that percolate from today’s garden makers globally who inspire Naomi. She will share examples of her work and others who she is continually energized by in this world of garden making. \n  \n \n  \nJonathan Hallet: I watched my parents experience their yard as a burden. It looked like an overwhelming and never ending chore – and the lemon didn’t seem worth the squeeze. And as a good millennial\, I don’t like to do fussy gardening\, but I do love nature and gardens. And it turns out that gardens can be a lot less work than we tend to make them. I will share from both design/planning perspectives and hands-on technique\, how to do low-input garden maintenance (both material-wise and labor-wise). \n  \n \n  \nJason Jorgensen: Understanding climate change in PNW gardens: this talk will discuss what is climate change\, how it affects urban and suburban PNW gardens\, learning new plant palettes\, and updated horticultural techniques. \n  \n \n  \nSpeaker Bios: \nNaomi Goodman \nNaomi Goodman is the Seattle based owner of Firecracker\, a landscape design firm that creates gardens for the urban habitat. Firecracker’s work stems from the ethos that a garden is to be enjoyed and used by people and its wildlife inhabitants. Naomi likes to experiment in garden making\, to see how far outside the lines she can get clients to color. \nJonathan Hallet \nThrough my practice Supernature\, I design ecologically-harmonious and playful gardens. My focus is to create outdoor spaces that feel wild\, wear neglect well\, and bring birds and insects in. Beauty and vanity is great too\, but let it be fun and easy. I studied landscape architecture at UC Berkeley and work in residential and public garden design on the west coast. \nJason Jorgensen \nJason Jorgensen obtained his formal degrees in Landscape Design and Ornamental Horticulture from the School of Horticulture at Edmonds College\, Lynnwood\, WA. Jason is currently a Qualified Professional Member of the Association of Professional Landscape Designers Washington Chapter and a Certified Professional Horticulturist from the Washington State Nursery and Landscape Association. Jason is currently a Board of Director for the Northwest Horticultural Society based in Seattle\, WA\, Board of Director for the Association of Professional Landscape Designers Washington Chapter\, and Perennials and Grasses Plant Selection Committee Member for the Great Plant Picks Program based in Seattle\, WA. Jason is passionate about changing the paradigm on creating beautiful\, sustainable\, and meaningful gardens and garden design. \n 
URL:https://northwesthort.org/event/designing-climate-adapted-gardens-a-designer-forum-with-naomi-goodman-jonathan-hallet-and-jason-jorgensen/
LOCATION:Live Webinar
CATEGORIES:Special Webinar Event,Webinar Lecture Series
ATTACH;FMTTYPE=image/png:https://northwesthort.org/wp-content/uploads/2024/05/featured-image-3.png
ORGANIZER;CN="Northwest Horticultural Society":MAILTO:info@northwesthort.org
END:VEVENT
BEGIN:VEVENT
DTSTART;TZID=America/Los_Angeles:20240613T100000
DTEND;TZID=America/Los_Angeles:20240613T120000
DTSTAMP:20260425T155449
CREATED:20240503T165314Z
LAST-MODIFIED:20240510T025023Z
UID:10000179-1718272800-1718280000@northwesthort.org
SUMMARY:Expedia Seattle Campus Tour - Morning Session - SOLD OUT
DESCRIPTION:Click Register to be added to the waitlist.  \n  \n \nExpedia Seattle Campus Tour with Jeff Daley\n \nTour the Expedia campus on the Seattle waterfront for a rare opportunity to view a new approach to corporate campus design. The 40-acres site has sweeping views of Puget Sound\, Mount Rainier and downtown Seattle. The NHS Spring Symposium featured an inspiring presentation by the Surfacedesign team on design\, biophilia\, and sustainability on the Expedia campus. We will visit areas inside the campus usually accessible only to employees\, including a park amphitheater\, a cascading water feature\, roof gardens\, an apiary\, a veggie garden and other landscape features that promote “biophilic” design. A key feature of the site is using landscape illusions to blur the boundaries between public and private space. Our tour leader is Jeff Daley\, the campus head horticulturist/arborist. \nJeff Daley has been involved in horticulture on the Expedia campus for the past three years. Prior to Expedia\, he was Head Gardener and Arborist at Seattle Pacific University for 30 years. Jeff is a Washington State Certified Professional Horticulturist\, ISA Certified Arborist\, and WSU Master Gardener. He brings his knowledge\, passion for growing plants and love of nature in a way that is inspiring and encouraging for any gardener. \nParking and entry details to the campus will be provided prior to the tour. \nLIMIT: 28 per session (MAXIMUM 2 PER REGISTRATION) – FEE IS PER PERSON
URL:https://northwesthort.org/event/expedia-seattle-campus-tour-morning-session/
LOCATION:Expedia Seattle Campus\, 1111 Expedia Group Way W\, Seattle\, WA\, 98119
CATEGORIES:Tour
ATTACH;FMTTYPE=image/png:https://northwesthort.org/wp-content/uploads/2024/05/Featured-Image.png
ORGANIZER;CN="Northwest Horticultural Society":MAILTO:info@northwesthort.org
END:VEVENT
BEGIN:VEVENT
DTSTART;TZID=America/Los_Angeles:20240613T140000
DTEND;TZID=America/Los_Angeles:20240613T160000
DTSTAMP:20260425T155449
CREATED:20240503T165452Z
LAST-MODIFIED:20240510T025001Z
UID:10000180-1718287200-1718294400@northwesthort.org
SUMMARY:Expedia Seattle Campus Tour - Afternoon Session - SOLD OUT
DESCRIPTION:Click Register to be added to the waitlist.\n \n  \n \nExpedia Seattle Campus Tour with Jeff Daley\n \nTour the Expedia campus on the Seattle waterfront for a rare opportunity to view a new approach to corporate campus design. The 40-acres site has sweeping views of Puget Sound\, Mount Rainier and downtown Seattle. The NHS Spring Symposium featured an inspiring presentation by the Surfacedesign team on design\, biophilia\, and sustainability on the Expedia campus. We will visit areas inside the campus usually accessible only to employees\, including a park amphitheater\, a cascading water feature\, roof gardens\, an apiary\, a veggie garden and other landscape features that promote “biophilic” design. A key feature of the site is using landscape illusions to blur the boundaries between public and private space. Our tour leader is Jeff Daley\, the campus head horticulturist/arborist. \nJeff Daley has been involved in horticulture on the Expedia campus for the past three years. Prior to Expedia\, he was Head Gardener and Arborist at Seattle Pacific University for 30 years. Jeff is a Washington State Certified Professional Horticulturist\, ISA Certified Arborist\, and WSU Master Gardener. He brings his knowledge\, passion for growing plants and love of nature in a way that is inspiring and encouraging for any gardener. \nParking and entry details to the campus will be provided prior to the tour. \nLIMIT: 28 per session (MAXIMUM 2 PER REGISTRATION) – FEE IS PER PERSON
URL:https://northwesthort.org/event/expedia-seattle-campus-tour-afternoon-session/
LOCATION:Expedia Seattle Campus\, 1111 Expedia Group Way W\, Seattle\, WA\, 98119
CATEGORIES:Tour
ATTACH;FMTTYPE=image/png:https://northwesthort.org/wp-content/uploads/2024/05/Featured-Image.png
ORGANIZER;CN="Northwest Horticultural Society":MAILTO:info@northwesthort.org
END:VEVENT
BEGIN:VEVENT
DTSTART;TZID=America/Los_Angeles:20240615T100000
DTEND;TZID=America/Los_Angeles:20240615T120000
DTSTAMP:20260425T155449
CREATED:20240516T175844Z
LAST-MODIFIED:20240615T002833Z
UID:10000184-1718445600-1718452800@northwesthort.org
SUMMARY:Plant to Market - Ensuring Healthy Plants in the Landscape from the Beginning to Sale with Zack Zobrist and Michelle Rau - SOLD OUT
DESCRIPTION:Click Register to Join the Waitlist\n\n\nClass Description:\nWe all have the sheer sense of joy when we walk into our favorite nursery to just ‘sneak a peek’ at what plants are trending each season\, and we all walk out with more plants than we have room for. Often\, we don’t think about what it took to make that plant retail nursery ready and look more beautiful than we could imagine. \nIn this class\, we will visit Puget Sound Plants\, a wholesale nursery in Snohomish\, WA\, to gain an understanding of how much work goes into supplying our community with high quality plants. We will discuss what it takes to grow plants from seeds\, cuttings\, and tissue culture and how long it takes to get your plants ready for market. While stunning plants and happy customers are the end goal\, the work that is required to make sure pests are managed sustainably\, fertilizers are used properly\, water is balanced\, and the elements are controlled as much as possible\, is never ending. \nPuget Sound Plants is a family-owned wholesale nursery that sells plants to landscape professionals throughout Washington State. They focus primarily on growing trees\, shrubs\, and perennials. Over the last decade Puget Sound Plants has expanded to include five locations. They have three production sites around the state\, totaling over 400 acres that provide everything from container plants to in-ground grown material. \nAttendees will have the opportunity to purchase plants from a selection of shrubs & perennials\, preselected for our group.  Credit card preferred\, cash accepted\, no checks. \n\nInstructor(s) Bio:\nZack Zobrist is currently a Senior Manager and the Production Manager at Puget Sound Plants. With 8 years of professional industry experience in nursery production\, Zack has managed to introduce various sustainable practices to increase plant health success and reduce the use of chemicals and fertilizers in the nursery. Zack holds a Bachelor of Science in integrated plant sciences with a focus on landscape nursery and greenhouse management from Washington State University. Zack was a proud member of FFA in high school and placed at nationals in ﬂoriculture in Indianapolis. \nMichelle Rau is a horticultural educator\, plant nerd and all-around hoot. With 10 years of experience in horticulture she oﬀers a unique perspective on plants\, and how to identify and care for them. In addition to being an NHS Board Member\, she is a Certiﬁed Professional Horticulturist\, ISA Certiﬁed Arborist and Faculty Member at Edmonds College. \nLIMIT: 25 (MAXIMUM 2 PER REGISTRATION) – FEE IS PER PERSON \n 
URL:https://northwesthort.org/event/plant-to-market-ensuring-healthy-plants-in-the-landscape-from-the-beginning-to-sale-with-zack-zobrist-and-michelle-rau/
LOCATION:Puget Sound Plants\, 9615 192nd St SE\, Snohomish\, WA\, 98296
CATEGORIES:In-person Class
ATTACH;FMTTYPE=image/png:https://northwesthort.org/wp-content/uploads/2024/05/featured-image-4.png
ORGANIZER;CN="Northwest Horticultural Society":MAILTO:info@northwesthort.org
END:VEVENT
BEGIN:VEVENT
DTSTART;TZID=America/Los_Angeles:20240619T183000
DTEND;TZID=America/Los_Angeles:20240619T200000
DTSTAMP:20260425T155449
CREATED:20240516T161446Z
LAST-MODIFIED:20240618T061141Z
UID:10000182-1718821800-1718827200@northwesthort.org
SUMMARY:The Great Garden Road Trip with Jason Morse
DESCRIPTION:  \n \n  \nIn 2021\, Jason Morse set out on the ultimate bucket list journey for a landscape architect and garden enthusiast – a 4-½ month road trip to visit over 30 of America’s most compelling public gardens.  At each stop\, he conducted in-depth interviews with members of senior garden leadership and made at least one early-morning visit to capture the unique beauty of the place.  From San Francisco to Pheonix\, Dallas to Miami\, up the East Coast to Boston\, and back home through Chicago and the Midwest\, Jason’s trip took him through 25 states and demonstrated the amazing depth and variety of the landscapes and gardens to be found in each region.  Join Jason as he shares some of his stunning photography and some fascinating insights on the intriguing ways America’s botanical gardens are meeting the challenges of the 21st Century. \nInstructor Bio:\nBorn and raised in Montana\, Jason obtained his landscape architecture degree from Washington State University and pursued a successful 25-year career in that field.  Through his master planning work\, nonprofit board leadership\, and his travels\, interviews\, and writings\, Jason has maintained a focus on the challenges faced by modern botanical gardens as they seek to redefine their role in a changing world.  Jason joined the board of directors at the Arboretum Foundation in 2014\, and filled leadership roles in fundraising\, capital projects planning\, and public advocacy\, and serving as president of the board for part of that time.  After completing his board tenure\, Jason joined the staff of the Foundation for a two-year in the role of strategic advisor.  Jason is an avid garden photographer\, and also loves to hike\, travel\, and collect antique maps. \nRecording will be available for 3 weeks.
URL:https://northwesthort.org/event/the-great-garden-road-trip-with-jason-morse/
LOCATION:Live Webinar
CATEGORIES:Webinar Lecture Series
ATTACH;FMTTYPE=image/png:https://northwesthort.org/wp-content/uploads/2024/05/Featured-Image-2.png
ORGANIZER;CN="Northwest Horticultural Society":MAILTO:info@northwesthort.org
END:VEVENT
BEGIN:VEVENT
DTSTART;TZID=America/Los_Angeles:20240620T100000
DTEND;TZID=America/Los_Angeles:20240620T120000
DTSTAMP:20260425T155449
CREATED:20240529T153042Z
LAST-MODIFIED:20240618T061423Z
UID:10000187-1718877600-1718884800@northwesthort.org
SUMMARY:Plants of the Season with Richie Steffen - AM
DESCRIPTION:  \nAre you a follower of the NHS Plant of the Week? Richie has been writing this weekly email since it began\, sharing some of the best\, some of the beautiful and a few odd and unusual choices for your garden. Join Richie for a stroll through the Elisabeth C. Miller Botanical Garden\, a source of inspiration for many of the Plant of the Week choices. He will share some of his favorite plants to grow for the summer garden and give tips on how to grow these plants successfully in your own garden. A rare opportunity to see one of the best gardens in the region and spend time with its executive director sharing his passion for the garden and its plants. \nInstructor Bio: \nRichie Steffen\, former president and board member of NHS\, is enthusiastic about\, or more accurately\, obsessed with\, plants. He is the Executive Director for the Elisabeth C. Miller Botanical Garden where he oversees the Garden\, its rare plant collections\, and the Miller Garden’s primary educational program Great Plant Picks. GPP is committed to building a comprehensive palette of\, and sharing information about\, outstanding reliable plants for maritime Pacific Northwest gardens. \nA noted author\, photographer and lecturer\, Richie’s work is regularly featured in the NHS newsletter\, GardenNotes\, as well as Fine Gardening magazine. He is also co-author with Sue Olsen of The Plant Lover’s Guide to Ferns. His photography has been featured in numerous publications including several books and national magazines. In his spare time\, he gardens with his husband\, Rick\, on their ten-acre property in Kingston. \nLIMIT: 15 (MAXIMUM 2 PER REGISTRATION) – FEE IS PER PERSON\nA portion of the class fees will be donated to the Great Plant Picks program. \n \n \n 
URL:https://northwesthort.org/event/am-plants-of-the-season-with-richie-steffen/
LOCATION:Elisabeth C. Miller Botanical Garden (Address will be made available to registrants two days prior to event.)\, Seattle\, WA
CATEGORIES:In-person Class
ATTACH;FMTTYPE=image/jpeg:https://northwesthort.org/wp-content/uploads/2024/05/Miller-Garden-Plants-of-Season-Sold-Out.jpg
END:VEVENT
BEGIN:VEVENT
DTSTART;TZID=America/Los_Angeles:20240620T130000
DTEND;TZID=America/Los_Angeles:20240620T150000
DTSTAMP:20260425T155449
CREATED:20240529T153431Z
LAST-MODIFIED:20240618T061505Z
UID:10000188-1718888400-1718895600@northwesthort.org
SUMMARY:Plants of the Season with Richie Steffen - PM
DESCRIPTION:Are you a follower of the NHS Plant of the Week? Richie has been writing this weekly email since it began\, sharing some of the best\, some of the beautiful and a few odd and unusual choices for your garden. Join Richie for a stroll through the Elisabeth C. Miller Botanical Garden\, a source of inspiration for many of the Plant of the Week choices. He will share some of his favorite plants to grow for the summer garden and give tips on how to grow these plants successfully in your own garden. A rare opportunity to see one of the best gardens in the region and spend time with its executive director sharing his passion for the garden and its plants. \nInstructor Bio:\nRichie Steffen\, former president and board member of NHS\, is enthusiastic about\, or more accurately\, obsessed with\, plants. He is the Executive Director for the Elisabeth C. Miller Botanical Garden where he oversees the Garden\, its rare plant collections\, and the Miller Garden’s primary educational program Great Plant Picks. GPP is committed to building a comprehensive palette of\, and sharing information about\, outstanding reliable plants for maritime Pacific Northwest gardens. \nA noted author\, photographer and lecturer\, Richie’s work is regularly featured in the NHS newsletter\, GardenNotes\, as well as Fine Gardening magazine. He is also co-author with Sue Olsen of The Plant Lover’s Guide to Ferns. His photography has been featured in numerous publications including several books and national magazines. In his spare time\, he gardens with his husband\, Rick\, on their ten-acre property in Kingston. \nLIMIT: 15 (MAXIMUM 2 PER REGISTRATION) – FEE IS PER PERSON\nA portion of the class fees will be donated to the Great Plant Picks program.
URL:https://northwesthort.org/event/pm-plants-of-the-season-with-richie-steffen/
LOCATION:Elisabeth C. Miller Botanical Garden (Address will be made available to registrants two days prior to event.)\, Seattle\, WA
CATEGORIES:In-person Class
ATTACH;FMTTYPE=image/jpeg:https://northwesthort.org/wp-content/uploads/2024/05/Miller-Garden-Plants-of-Season-Sold-Out.jpg
END:VEVENT
BEGIN:VEVENT
DTSTART;TZID=America/Los_Angeles:20240629T103000
DTEND;TZID=America/Los_Angeles:20240629T120000
DTSTAMP:20260425T155449
CREATED:20240522T190809Z
LAST-MODIFIED:20240621T225202Z
UID:10000185-1719657000-1719662400@northwesthort.org
SUMMARY:Succulent Love with Katherine Tracey
DESCRIPTION:  \n \n \nWhat is there not to love? Succulents offer exquisite “mix and match” foliage colors\, forms and textures\, plus they are incredibly easy to care for.  In this presentation Katherine Tracey will acquaint you with some of her favorite selections\, offer fresh ideas for their use in the garden as well as in container combinations\, vertical gardens\, wreaths and floral arranging. She’ll also discuss propagation\, proper soil mixes\, indoor care and tips on how to address humid outdoor growing conditions. \nSpeaker Bio:\nFor over 30 years\, Katherine Tracey has been experimenting with the unexpected on the grounds of Avant Gardens\, a nationally known mail order nursery and garden design/build firm in Dartmouth MA.  Formally trained as a painter and textile designer\, Katherine’s appreciation for color and pattern continues to inform her passion for horticulture. \nKatherine is also a garden photographer\, writer and a lecturer. She writes the content for Garden Foreplay\, Avant Gardens’ blog and is a contributor to Fine Gardening Magazine.  Over the years Katherine has been a featured speaker at Wave Hill\, Ladew Topiary Gardens\, Tower Hill Botanic Garden\, the New York Botanic Garden\, the Massachusetts Horticultural Society\, the Connecticut Horticultural Society\, the Horticultural Society of Maryland\, the Horticultural Alliance of the Hamptons\, and numerous other garden symposia. \nRecording will be available for 3 weeks.
URL:https://northwesthort.org/event/succulent-love-with-katherine-tracey/
LOCATION:Live Webinar
CATEGORIES:Webinar Lecture Series
ATTACH;FMTTYPE=image/png:https://northwesthort.org/wp-content/uploads/2024/05/Featured-Image-5.png
ORGANIZER;CN="Northwest Horticultural Society":MAILTO:info@northwesthort.org
END:VEVENT
END:VCALENDAR